Workbook

Sheet KOPSAVILKUMS 
A1: PRECES VEIDS | B1: Identifikācijas kods | C1: PRECES NOSAUKUMS | D1: CENA KOPĀ EUR BEZ PVN
A2: Darba galdi | B2: ='DARBA GALDI'!B4 -> DG1 | C2: ='DARBA GALDI'!C4 -> Darba galds 1200x700mm | D2: ='DARBA GALDI'!L4 -> 0
A3: Darba galdi | B3: ='DARBA GALDI'!B5 -> DG1_K | C3: ='DARBA GALDI'!C5 -> Darba galds 1200x700mm, ar komunikāciju pievadu | D3: ='DARBA GALDI'!L5 -> 0
A4: Darba galdi | B4: ='DARBA GALDI'!B6 -> DG2 | C4: ='DARBA GALDI'!C6 -> Darba galds 1400x700mm | D4: ='DARBA GALDI'!L6 -> 0
A5: Darba galdi | B5: ='DARBA GALDI'!B7 -> DG2_K | C5: ='DARBA GALDI'!C7 -> Darba galds 1400x700mm, ar komunikāciju pievadu | D5: ='DARBA GALDI'!L7 -> 0
A6: Darba galdi | B6: ='DARBA GALDI'!B8 -> DG3 | C6: ='DARBA GALDI'!C8 -> Darba galds 1600x700mm | D6: ='DARBA GALDI'!L8 -> 0
A7: Darba galdi | B7: ='DARBA GALDI'!B9 -> DG3_K | C7: ='DARBA GALDI'!C9 -> Darba galds 1600x700mm, ar komunikāciju pievadu | D7: ='DARBA GALDI'!L9 -> 0
A8: Darba galdi | B8: ='DARBA GALDI'!B10 -> DG4 | C8: ='DARBA GALDI'!C10 -> Divi pretī novietoti, bloķēti, darba galdi 1200*1400mm (viena darba galda izmērs1200x690 mm) | D8: ='DARBA GALDI'!L10 -> 0
A9: Darba galdi | B9: ='DARBA GALDI'!B11 -> DG5_K | C9: ='DARBA GALDI'!C11 -> Divi pretī novietoti, bloķēti, darba galdi 1200*1400mm (viena darba galda izmērs1200x690 mm) ar komunikāciju pievadu | D9: ='DARBA GALDI'!L11 -> 0
A10: Darba galdi | B10: ='DARBA GALDI'!B12 -> DG6 | C10: ='DARBA GALDI'!C12 -> Divi pretī novietoti, bloķēti, darba galdi 1400*1400mm (viena darba galda izmērs 1400x690 mm) | D10: ='DARBA GALDI'!L12 -> 0
A11: Darba galdi | B11: ='DARBA GALDI'!B13 -> DG6_K | C11: ='DARBA GALDI'!C13 -> Divi pretī novietoti, bloķēti, darba galdi 1400*1400mm (viena darba galda izmērs1400x690 mm) ar komunikāciju pievadu | D11: ='DARBA GALDI'!L13 -> 0
A12: Darba galdi | B12: ='DARBA GALDI'!B14 -> DG7 | C12: ='DARBA GALDI'!C14 -> Divi pretī novietoti, bloķēti, biroja galdi 1600x1400 mm (viena galda virsma 1600x690mm) | D12: ='DARBA GALDI'!L14 -> 0
A13: Darba galdi | B13: ='DARBA GALDI'!B15 -> DG7_K | C13: ='DARBA GALDI'!C15 -> Divi pretī novietoti, bloķēti, biroja galdi 1600x1400 mm (viena galda virsma 1600x690mm), ar komunikāciju pievadu | D13: ='DARBA GALDI'!L15 -> 0
... A49: Darba galdi | B49: ='DARBA GALDI'!B51 -> DG25_K | C49: ='DARBA GALDI'!C51 -> Elektromehāniski regulējams galds, 1600x700mm ar akustisko starpsienu, ar komunikāciju pievadiem | D49: ='DARBA GALDI'!L51 -> 0
A50: Sanāksmju galdi | B50: ='SANĀKSMJU GALDI'!B4 -> SG1 | C50: ='SANĀKSMJU GALDI'!C4 -> Sarunu galds 1400x1400mm | D50: ='SANĀKSMJU GALDI'!K4 -> 0
A51: Sanāksmju galdi | B51: ='SANĀKSMJU GALDI'!B5 -> SG1_K | C51: ='SANĀKSMJU GALDI'!C5 -> Sarunu galds 1400x1400mm ar komunikāciju pievadiem | D51: ='SANĀKSMJU GALDI'!K5 -> 0
A52: Sanāksmju galdi | B52: ='SANĀKSMJU GALDI'!B6 -> SG2 | C52: ='SANĀKSMJU GALDI'!C6 -> Apspriežu galds 1600x800mm | D52: ='SANĀKSMJU GALDI'!K6 -> 0
A53: Sanāksmju galdi | B53: ='SANĀKSMJU GALDI'!B7 -> SG2_K | C53: ='SANĀKSMJU GALDI'!C7 -> Apspriežu galds 1600x800mm ar komunikāciju pievadu | D53: ='SANĀKSMJU GALDI'!K7 -> 0
A54: Sanāksmju galdi | B54: ='SANĀKSMJU GALDI'!B8 -> SG3 | C54: ='SANĀKSMJU GALDI'!C8 -> Galds ar koka kājām 1000x1000mm | D54: ='SANĀKSMJU GALDI'!K8 -> 0
A55: Sanāksmju galdi | B55: ='SANĀKSMJU GALDI'!B9 -> SG4 | C55: ='SANĀKSMJU GALDI'!C9 -> Galds ar koka kājām 1800x900mm | D55: ='SANĀKSMJU GALDI'!K9 -> 0
A56: Sanāksmju galdi | B56: ='SANĀKSMJU GALDI'!B10 -> SG4_K | C56: ='SANĀKSMJU GALDI'!C10 -> Galds ar koka kājām 1800x900mm, ar komunikāciju pievadu | D56: ='SANĀKSMJU GALDI'!K10 -> 0
A57: Sanāksmju galdi | B57: ='SANĀKSMJU GALDI'!B11 -> SG5 | C57: ='SANĀKSMJU GALDI'!C11 -> Galds ar koka kājām 1800x1000mm | D57: ='SANĀKSMJU GALDI'!K11 -> 0
A58: Sanāksmju galdi | B58: ='SANĀKSMJU GALDI'!B12 -> SG5_K | C58: ='SANĀKSMJU GALDI'!C12 -> Galds ar koka kājām 1800x1000mm, ar komunikāciju pievadu | D58: ='SANĀKSMJU GALDI'!K12 -> 0
A59: Sanāksmju galdi | B59: ='SANĀKSMJU GALDI'!B13 -> SG6 | C59: ='SANĀKSMJU GALDI'!C13 -> Galds ar koka kājām 2400x1000mm | D59: ='SANĀKSMJU GALDI'!K13 -> 0
A60: Sanāksmju galdi | B60: ='SANĀKSMJU GALDI'!B14 -> SG6_K | C60: ='SANĀKSMJU GALDI'!C14 -> Galds ar koka kājām 2400x1000mm, ar komunikāciju pievadu | D60: ='SANĀKSMJU GALDI'!K14 -> 0
A61: Sanāksmju galdi | B61: ='SANĀKSMJU GALDI'!B15 -> SG7 | C61: ='SANĀKSMJU GALDI'!C15 -> Galds ar koka kājām 3000x1000mm | D61: ='SANĀKSMJU GALDI'!K15 -> 0
... A72: Sanāksmju galdi | B72: ='SANĀKSMJU GALDI'!B26 -> SG12_K | C72: ='SANĀKSMJU GALDI'!C26 -> Liels, apaļš apspriežu galds D=2000 mm, ar komunikāciju pievadu | D72: ='SANĀKSMJU GALDI'!K26 -> 0
A73: Citi galdi | B73: ='CITI GALDI'!B4 -> CG1 | C73: ='CITI GALDI'!C4 -> Apaļš galds uz centrālas kājas D=600 mm | D73: ='CITI GALDI'!K4 -> 0
A74: Citi galdi | B74: ='CITI GALDI'!B5 -> CG2 | C74: ='CITI GALDI'!C5 -> Apaļš galds uz centrālas kājas D=1000 mm | D74: ='CITI GALDI'!K5 -> 0
A75: Citi galdi | B75: ='CITI GALDI'!B6 -> CG3 | C75: ='CITI GALDI'!C6 -> Apaļš galds uz centrālas kājas D=800m | D75: ='CITI GALDI'!K6 -> 0
A76: Citi galdi | B76: ='CITI GALDI'!B7 -> CG4 | C76: ='CITI GALDI'!C7 -> Apaļš galds uz centrālas kājas D=1000m | D76: ='CITI GALDI'!K7 -> 0
A77: Citi galdi | B77: ='CITI GALDI'!B8 -> CG5 | C77: ='CITI GALDI'!C8 -> Apaļš galds uz centrālas kājas D=1200 mm | D77: ='CITI GALDI'!K8 -> 0
A78: Citi galdi | B78: ='CITI GALDI'!B9 -> CG6 | C78: ='CITI GALDI'!C9 -> Augstais galds uz centrālas kājas 600x600mm | D78: ='CITI GALDI'!K9 -> 0
A79: Citi galdi | B79: ='CITI GALDI'!B10 -> CG7 | C79: ='CITI GALDI'!C10 -> Galds, augstais | D79: ='CITI GALDI'!K10 -> 0
A80: Citi galdi | B80: ='CITI GALDI'!B11 -> CG8 | C80: ='CITI GALDI'!C11 -> Pārvietojams galds ar nolokāmu virsmu 1200x700mm | D80: ='CITI GALDI'!K11 -> 0
A81: Citi galdi | B81: ='CITI GALDI'!B12 -> CG9 | C81: ='CITI GALDI'!C12 -> Pārvietojams galds ar nolokāmu virsmu 1400x700mm | D81: ='CITI GALDI'!K12 -> 0
A82: Citi galdi | B82: ='CITI GALDI'!B13 -> CG10 | C82: ='CITI GALDI'!C13 -> Pārvietojams galds ar nolokāmu virsmu 1200x800mm | D82: ='CITI GALDI'!K13 -> 0
A83: Citi galdi | B83: ='CITI GALDI'!B14 -> CG11 | C83: ='CITI GALDI'!C14 -> Pārvietojams galds ar nolokāmu virsmu 1400x800mm | D83: ='CITI GALDI'!K14 -> 0
A84: Citi galdi | B84: ='CITI GALDI'!B15 -> CG12 | C84: ='CITI GALDI'!C15 -> Galds palīgtelpām 1000x500 mm | D84: ='CITI GALDI'!K15 -> 0
... A94: Citi galdi | B94: ='CITI GALDI'!B25 -> CG22 | C94: ='CITI GALDI'!C25 -> Zemais žurnālu galdiņš uz 4 kājām | D94: ='CITI GALDI'!K25 -> 0
...

Sheet DARBA GALDI
A1: TEHNISKĀ SPECIFIKĀCIJA | J1: Finanšu piedāvājums
A2: Nr. p.k. | B2: Identifikācijas kods | C2: Mēbeles veids jeb Nosaukums | D2: Informatīvs attēls | E2: Specifikācija | F2: KRĀSU TOŅU IZVĒLE | J2: Daudzums | K2: VIENĪBAS CENA EURO BEZ PVN | L2: CENA KOPĀ EUR BEZ PVN
F3: Virsmas tonis | G3: Metāla detaļu tonis | H3: Pet filca tonis | I3: Komunikācijas lūkas krāsa
A4: 1 | B4: DG1 | C4: Darba galds 1200x700mm | E4: Izmēri: 1200 x 700 mm ( +/- 20 mm), H=740 mm ( +/- 20 mm). Virsma izgatavota no vismaz 25 mm biezas laminētas kokskaidu plātnes, vienkrāsaina, gluda, matēta, ar 2 mm biezs atbilstoša dekora ABS apmalojums pa virsmas perimetru. Galda kājas no taisnstūra formā metinātas caurules 55 x 20mm (+/-5mm), sienu biezums vismaz 2mm, kas augšpusē savienota ar savilci no taisnstūra caurules 40 x 20 mm(+/-5mm) , biezums vismaz 2 mm. Metinājumu šuves noslīpētas. Galda kājām ir izlīmeņošanas iespēja. Kājas savienotas ar divām galda virsmu nesošām sijām no taisnstūra caurules 40 x 20mm(+/- 5mm), sienu biezums vismaz 2mm. Galda virsmā izveidots 1 urbums D=60-100mm, urbums segts ar atbilstoša diametra komunikāciju lūku ar noņemamu vāku. Lūkas krāsa -balta vai melna. Zem galda virsmas stiprināts horizontals komunikācijas kanāls 720 x 100mm (+/-50mm) H= 100mm ( +/-20mm), izgatavots no 1,5-2.0 mm bieza tērauda vai metāla režģa, paredzēts pievadkabeļu un savienojošo kabeļu izvietošanai. Metāla daļas pulverkrāsotas melnas, gludas. | L4: =J4*K4 -> 0
A5: 2 | B5: DG1_K | C5: Darba galds 1200x700mm, ar komunikāciju pievadu | E5: Izmēri: 1200 x 700 mm ( +/- 20 mm), H=740 mm ( +/- 20 mm), ar komunikāciju pievadu. Virsma izgatavota no vismaz 25 mm biezas laminētas kokskaidu plātnes, vienkrāsaina, gluda, matēta, ar 2 mm biezs atbilstoša dekora ABS apmalojums pa virsmas perimetru. Galda kājas no taisnstūra formā metinātas caurules 55 x 20mm (+/-5mm), sienu biezums vismaz 2mm, kas augšpusē savienota ar savilci no taisnstūra caurules 40 x 20 mm(+/-5mm) , biezums vismaz 2 mm. Metinājumu šuves noslīpētas. Galda kājām ir izlīmeņošanas iespēja. Kājas savienotas ar divām galda virsmu nesošām sijām no taisnstūra caurules 40 x 20mm(+/- 5mm), sienu biezums vismaz 2mm. Galda virsmā izveidoti 2 urbumi D=60-100mm. Vienā no tiem iestrādāts komunikāciju izvadu bloks ar vismaz vienu elektrības kontaktligzdu ar zemējumu, vienu USB-A un vienu UCB-C lādētāju. Otrs urbums segts ar atbilstoša diametra komunikāciju lūku ar noņemamu vāku. Lūkas krāsa -balta vai melna. Zem galda virsmas vai rāmja stiprināts komunikāciju kanāls/sile ar izmēru 720 x 100mm (+/-50mm) , H=100mm (+/-20mm) , locīta no 1,5-2,0mm bieza tērauda vai režģa ar tajā stiprinātu elektrības pagarinātāju ar vismaz 5 elektrības kontaktligzdām ar zemējumu un vismaz 4m garu vadu ar Schuco kontaktdakšu. Metāla daļas pulverkrāsotas melnas, gludas. | L5: =J5*K5 -> 0
A6: 3 | B6: DG2 | C6: Darba galds 1400x700mm | E6: Izmēri: 1400 x 700 ( +/- 20 mm), H= 740 mm ( +/- 20 mm). Virsma izgatavota no vismaz 25 mm biezas laminētas kokskaidu plātnes, vienkrāsaina, gluda, matēta, ar 2 mm biezs atbilstoša dekora ABS apmalojums pa virsmas perimetru. Galda kājas no taisnstūra formā metinātas caurules 55 x 20mm (+/-5mm), sienu biezums vismaz 2mm, kas augšpusē savienota ar savilci no taisnstūra caurules 40 x 20 mm(+/-5mm) , biezums vismaz 2 mm. Metinājumu šuves noslīpētas. Galda kājām ir izlīmeņošanas iespēja. Kājas savienotas ar divām galda virsmu nesošām sijām no taisnstūra caurules 40 x 20mm(+/- 5mm), sienu biezums vismaz 2mm. Galda virsmā izveidots 1 urbums D=60-100mm, urbums segts ar atbilstoša diametra komunikāciju lūku ar noņemamu vāku. Lūkas krāsa -balta vai melna. Zem galda virsmas stiprināts horizontals komunikācijas kanāls 720 x 100mm (+/-50mm) H= 100mm ( +/-20mm), izgatavots no 1,5-2.0 mm bieza tērauda vai metāla režģa, paredzēts pievadkabeļu un savienojošo kabeļu izvietošanai. Metāla daļas pulverkrāsotas melnas, gludas. | L6: =J6*K6 -> 0
A7: 4 | B7: DG2_K | C7: Darba galds 1400x700mm, ar komunikāciju pievadu | E7: Izmēri: 1400 x 700 ( +/- 20 mm), H= 740 mm ( +/- 20 mm), ar komunikāciju pievadu Virsma izgatavota no vismaz 25 mm biezas laminētas kokskaidu plātnes, vienkrāsaina, gluda, matēta, ar 2 mm biezs atbilstoša dekora ABS apmalojums pa virsmas perimetru. Galda kājas no taisnstūra formā metinātas caurules 55 x 20mm (+/-5mm), sienu biezums vismaz 2mm, kas augšpusē savienota ar savilci no taisnstūra caurules 40 x 20 mm(+/-5mm) , biezums vismaz 2 mm. Metinājumu šuves noslīpētas. Galda kājām ir izlīmeņošanas iespēja. Kājas savienotas ar divām galda virsmu nesošām sijām no taisnstūra caurules 40 x 20mm(+/- 5mm), sienu biezums vismaz 2mm. Katra galda virsmā izveidoti 2 urbumi D= 60-100mm. Vienā no tiem iestrādāts komunikāciju izvadu bloks ar vismaz vienu elektrības kontaktligzdu ar zemējumu, vienu USB-A un vienu UCB-C lādētāju. Otrs urbums segts ar atbilstoša diametra komunikāciju lūku ar noņemamu vāku. Lūkas krāsa -balta vai melna. Zem galda virsmas vai rāmja stiprināts komunikāciju kanāls/sile ar izmēru 720 x 100mm (+/-50mm) , H=100mm (+/-20mm) , locīta no 1,5-2,0mm bieza tērauda vai režģa ar tajā stiprinātu elektrības pagarinātāju ar vismaz 5 elektrības kontaktligzdām ar zemējumu un vismaz 4m garu vadu ar Schuco kontaktdakšu. Metāla daļas pulverkrāsotas melnas, gludas. | L7: =J7*K7 -> 0
A8: 5 | B8: DG3 | C8: Darba galds 1600x700mm | E8: Izmēri: 1600 x 700 ( +/- 20 mm), H= 740 mm ( +/- 20 mm). Virsma izgatavota no vismaz 25 mm biezas laminētas kokskaidu plātnes, vienkrāsaina, gluda, matēta, ar 2 mm biezs atbilstoša dekora ABS apmalojums pa virsmas perimetru. Galda kājas no taisnstūra formā metinātas caurules 55 x 20mm (+/-5mm), sienu biezums vismaz 2mm, kas augšpusē savienota ar savilci no taisnstūra caurules 40 x 20 mm(+/-5mm) , biezums vismaz 2 mm. Metinājumu šuves noslīpētas. Galda kājām ir izlīmeņošanas iespēja. Kājas savienotas ar divām galda virsmu nesošām sijām no taisnstūra caurules 40 x 20mm(+/- 5mm), sienu biezums vismaz 2mm. Galda virsmā izveidots 1 urbums D=60-100mm, urbums segts ar atbilstoša diametra komunikāciju lūku ar noņemamu vāku. Lūkas krāsa -balta vai melna. Zem galda virsmas stiprināts horizontals komunikācijas kanāls 720 x 100mm (+/-50mm) H= 100mm ( +/-20mm), izgatavots no 1,5-2.0 mm bieza tērauda vai metāla režģa, paredzēts pievadkabeļu un savienojošo kabeļu izvietošanai. Metāla daļas pulverkrāsotas melnas, gludas. | L8: =J8*K8 -> 0
A9: 6 | B9: DG3_K | C9: Darba galds 1600x700mm, ar komunikāciju pievadu | E9: Izmēri: 1600 x 700 ( +/- 20 mm), H= 740 mm ( +/- 20 mm), ar komunikāciju pievadu Virsma izgatavota no vismaz 25 mm biezas laminētas kokskaidu plātnes, vienkrāsaina, gluda, matēta, ar 2 mm biezs atbilstoša dekora ABS apmalojums pa virsmas perimetru. Galda kājas no taisnstūra formā metinātas caurules 55 x 20mm (+/-5mm), sienu biezums vismaz 2mm, kas augšpusē savienota ar savilci no taisnstūra caurules 40 x 20 mm(+/-5mm) , biezums vismaz 2 mm. Metinājumu šuves noslīpētas. Galda kājām ir izlīmeņošanas iespēja. Kājas savienotas ar divām galda virsmu nesošām sijām no taisnstūra caurules 40 x 20mm(+/- 5mm), sienu biezums vismaz 2mm. Katra galda virsmā izveidoti 2 urbumi D=60-100mm. Vienā no tiem iestrādāts komunikāciju izvadu bloks ar vismaz vienu elektrības kontaktligzdu ar zemējumu, vienu USB-A un vienu UCB-C lādētāju. Otrs urbums segts ar atbilstoša diametra komunikāciju lūku ar noņemamu vāku. Lūkas krāsa -balta vai melna. Zem galda virsmas vai rāmja stiprināts komunikāciju kanāls/sile ar izmēru 720 x 100mm (+/-50mm) , H=100mm (+/-20mm) , locīta no 1,5-2,0mm bieza tērauda vai režģa ar tajā stiprinātu elektrības pagarinātāju ar vismaz 5 elektrības kontaktligzdām ar zemējumu un vismaz 4m garu vadu ar Schuco kontaktdakšu. Metāla daļas pulverkrāsotas melnas, gludas. | L9: =J9*K9 -> 0
A10: 7 | B10: DG4 | C10: Divi pretī novietoti, bloķēti, darba galdi 1200*1400mm (viena darba galda izmērs1200x690 mm) | E10: Darba galdu komplekts, kas sastāv no diviem stacionāriem, pretī novietotiem un savstarpēji bloķētiem galdiem. Starp galdiem akustiska, ugunsdroša PET filca starpsiena. Izmērs: darba galda komplektam 1200*1400mm (+/-20mm), H = 740mm (+/-20mm). Izmēri: vienam darba galdam 1200x690mm ( +/-20mm) H = 740mm (+/-20mm). Virsma izgatavota no vismaz 25 mm biezas laminētas kokskaidu plātnes, vienkrāsaina, gluda, matēta, ar 2 mm biezs atbilstoša dekora ABS apmalojums pa virsmas perimetru. Abiem galdiem ir kopīgs un vienots balstrāmis, kājas no metinātas taisnstūra caurules 55 x 20mm (+/-5mm), sienu biezums vismaz 2mm, kas augšpusē savienota ar savilci no taisnstūra caurules 40 x 20 mm(+/-5mm), biezums vismaz 2 mm. Kājas savienotas ar divām galda virsmu nesošām sijām no taisnstūra caurules 40 x 20mm(+/- 5mm), biezums vismaz 2mm. Metinājumu šuves noslīpētas. Galda kājām ir paredzēta izlīmeņošanas iespēja. Katra galda virsmā izveidots 1 urbums D=60-100mm, urbums segts ar atbilstoša diametra komunikāciju lūku ar noņemamu vāku. Lūkas krāsa -balta vai melna. Zem galda virsmas stiprināts horizontals komunikācijas kanāls 720 x 100mm (+/-50mm) H= 100mm ( +/-20mm), izgatavots no 1,5-2.0 mm bieza tērauda vai metāla režģa, paredzēts pievadkabeļu un savienojošo kabeļu izvietošanai. PET filca starpsienas izmērs: 1180x400mm ( +/- 20mm), biezums 20mm ( +/-2mm). PET filca starpsienas blīvums ne mazāks par 120 kg/m³. Katra PET Filca starpsiena stiprinās individuāli uz slēptiem kronšteiniem, kas piestiprināti pie galda. PET filcs nedrīkst būt pielīmēts. | L10: =J10*K10 -> 0
A11: 8 | B11: DG5_K | C11: Divi pretī novietoti, bloķēti, darba galdi 1200*1400mm (viena darba galda izmērs1200x690 mm) ar komunikāciju pievadu | E11: Darba galdu komplekts, kas sastāv no diviem stacionāriem, pretī novietotiem un savstarpēji bloķētiem galdiem. Starp galdiem akustiska, ugunsdroša PET filca starpsiena., ar komunikāciju pievadu. Izmērs: darba galda komplektam 1200*1400mm (+/-20mm), H = 740mm (+/-20mm). Izmēri: vienam darba galdam 1200x690mm ( +/-20mm) H = 740mm (+/-20mm). Virsma izgatavota no vismaz 25 mm biezas laminētas kokskaidu plātnes, vienkrāsaina, gluda, matēta, ar 2 mm biezs atbilstoša dekora ABS apmalojums pa virsmas perimetru. Abiem galdiem ir kopīgs un vienots balstrāmis, kājas no metinātas taisnstūra caurules 55 x 20mm ( +/-5mm), biezums vismaz 2mm, kas augšpusē savienota ar savilci no taisnstūra caurules 40 x 20 (+/-5mm) biezums vismaz 2mm. Kājas savienotas ar divām galda virsmu nesošām sijām no taisnstūra caurules 40 x 20mm(+/- 5mm), biezums vismaz 2mm. Metinājumu šuves noslīpētas. Galda kājām ir paredzēta izlīmeņošanas iespēja. Katra galda virsmā izveidoti 2 urbumi D=60-100mm. Vienā no tiem iestrādāts komunikāciju izvadu bloks ar vismaz vienu elektrības kontaktligzdu ar zemējumu, vienu USB-A un vienu UCB-C lādētāju. Otrs urbums segts ar atbilstoša diametra komunikāciju lūku ar noņemamu vāku. Lūkas krāsa -balta vai melna. Zem galda virsmas vai rāmja stiprināts komunikāciju kanāls/sile ar izmēru 720 x 100mm (+/-50mm) , H=100mm (+/-20mm) , locīta no 1,5-2,0mm bieza tērauda vai režģa ar tajā stiprinātu elektrības pagarinātāju ar vismaz 5 elektrības kontaktligzdām ar zemējumu un vismaz 4m garu vadu ar Schuco kontaktdakšu. PET filca starpsienas izmērs: 1180x400mm ( +/- 20mm), biezums 20mm ( +/-2mm). PET filca starpsienas blīvums ne mazāks par 120 kg/m³. Katra PET Filca starpsiena stiprinās individuāli uz slēptiem kronšteiniem, kas piestiprināti pie galda. PET filcs nedrīskt būt pielīmēts. | L11: =J11*K11 -> 0
A12: 9 | B12: DG6 | C12: Divi pretī novietoti, bloķēti, darba galdi 1400*1400mm (viena darba galda izmērs 1400x690 mm) | E12: Darba galdu komplekts, kas sastāv no diviem stacionāriem, pretī novietotiem un savstarpēji bloķētiem galdiem. Starp galdiem akustiska, ugunsdroša PET filca starpsiena. Izmērs: darba galda komplektam 1400*1400mm (+/-20mm), H = 740mm (+/-20mm). Izmēri: vienam darba galdam 1400x690mm ( +/-20mm) H = 740mm (+/-20mm). Virsma izgatavota no vismaz 25 mm biezas laminētas kokskaidu plātnes, vienkrāsaina, gluda, matēta, ar 2 mm biezs atbilstoša dekora ABS apmalojums pa virsmas perimetru. Abiem galdiem ir kopīgs un vienots balstrāmis, kājas no metinātas taisnstūra caurules 55 x 20mm (+/-10mm), sienu biezums vismaz 2mm, kas augšpusē savienota ar savilci no taisnstūra caurules 40 x 20 mm(+/-5mm) , biezums vismaz 2 mm. Kājas savienotas ar divām galda virsmu nesošām sijām no taisnstūra caurules 40 x 20mm(+/- 5mm), biezums vismaz 2mm. Metinājumu šuves noslīpētas. Galda kājām ir paredzēta izlīmeņošanas iespēja. Katra galda virsmā izveidots 1 urbums D=60-100mm, urbums segts ar atbilstoša diametra komunikāciju lūku ar noņemamu vāku. Lūkas krāsa -balta vai melna. Zem galda virsmas stiprināts horizontals komunikācijas kanāls 720 x 100mm (+/-50mm) H= 100mm ( +/-20mm), izgatavots no 1,5-2.0 mm bieza tērauda vai metāla režģa, paredzēts pievadkabeļu un savienojošo kabeļu izvietošanai. PET filca starpsienas izmērs : 1380x400mm ( +/- 20mm), biezums 20mm ( +/-2mm). PET filca starpsienas blīvums ne mazāks par 120 kg/m³. Katra PET Filca starpsiena stiprinās individuāli uz slēptiem kronšteiniem, kas piestiprināti pie galda. PET filcs nedrīskt būt pielīmēts. | L12: =J12*K12 -> 0
A13: 10 | B13: DG6_K | C13: Divi pretī novietoti, bloķēti, darba galdi 1400*1400mm (viena darba galda izmērs1400x690 mm) ar komunikāciju pievadu | E13: Darba galdu komplekts, kas sastāv no diviem stacionāriem, pretī novietotiem un savstarpēji bloķētiem galdiem. Starp galdiem akustiska, ugunsdroša PET filca starpsiena, ar komunikāciju pievadu. Izmērs: darba galda komplektam 1400*1400mm (+/-20mm), H = 740mm (+/-20mm). Izmēri: vienam darba galdam 1400x690mm ( +/-20mm) H = 740mm (+/-20mm). Virsma izgatavota no vismaz 25 mm biezas laminētas kokskaidu plātnes, vienkrāsaina, gluda, matēta, ar 2 mm biezs atbilstoša dekora ABS apmalojums pa virsmas perimetru. Abiem galdiem ir kopīgs un vienots balstrāmis, kājas no metinātas taisnstūra caurules 55 x 20mm ( +/-5mm), biezums vismaz 2mm, kas augšpusē savienota ar savilci no taisnstūra caurules 40 x 20 (+/-5mm) biezums vismaz 2mm. Kājas savienotas ar divām galda virsmu nesošām sijām no taisnstūra caurules 40 x 20mm(+/- 5mm), biezums vismaz 2mm. Metinājumu šuves noslīpētas. Galda kājām ir paredzēta izlīmeņošanas iespēja. Katra galda virsmā izveidoti 2 urbumi D=60-100mm. Vienā no tiem iestrādāts komunikāciju izvadu bloks ar vismaz vienu elektrības kontaktligzdu ar zemējumu, vienu USB-A un vienu UCB-C lādētāju. Otrs urbums segts ar atbilstoša diametra komunikāciju lūku ar noņemamu vāku. Lūkas krāsa -balta vai melna. Zem galda virsmas vai rāmja stiprināts komunikāciju kanāls/sile ar izmēru 720 x 100mm (+/-50mm) , H=100mm (+/-20mm) , locīta no 1,5-2,0mm bieza tērauda vai režģa ar tajā stiprinātu elektrības pagarinātāju ar vismaz 5 elektrības kontaktligzdām ar zemējumu un vismaz 4m garu vadu ar Schuco kontaktdakšu. PET filca starpsienas izmērsi: 1380x400mm ( +/- 20mm), biezums 20mm ( +/-2mm). PET filca starpsienas blīvums ne mazāks par 120 kg/m³. Katra PET Filca starpsiena stiprinās individuāli uz slēptiem kronšteiniem, kas piestiprināti pie galda. PET filcs nedrīskt būt pielīmēts. | L13: =J13*K13 -> 0
A14: 11 | B14: DG7 | C14: Divi pretī novietoti, bloķēti, biroja galdi 1600x1400 mm (viena galda virsma 1600x690mm) | E14: Darba galdu komplekts, kas sastāv no diviem stacionāriem, pretī novietotiem un savstarpēji bloķētiem galdiem. Starp galdiem akustiska, ugunsdroša PET filca starpsiena. Izmērs: darba galda komplektam 1600*1400mm (+/-20mm), H = 740mm (+/-20mm). Izmēri: vienam darba galdam 1600x690mm ( +/-20mm) H = 740mm (+/-20mm). Virsma izgatavota no vismaz 25 mm biezas laminētas kokskaidu plātnes, vienkrāsaina, gluda, matēta, ar 2 mm biezs atbilstoša dekora ABS apmalojums pa virsmas perimetru. Abiem galdiem ir kopīgs un vienots balstrāmis, kājas no metinātas taisnstūra caurules 55 x 20mm ( +/-5mm), biezums vismaz 2mm, kas augšpusē savienota ar savilci no taisnstūra caurules 40 x 20 (+/-5mm) biezums vismaz 2mm. Kājas savienotas ar divām galda virsmu nesošām sijām no taisnstūra caurules 40 x 20mm(+/- 5mm), biezums vismaz 2mm. Metinājumu šuves noslīpētas. Galda kājām ir paredzēta izlīmeņošanas iespēja. Katra galda virsmā izveidots 1 urbums D=60-100mm, urbums segts ar atbilstoša diametra komunikāciju lūku ar noņemamu vāku. Lūkas krāsa -balta vai melna. Zem galda virsmas stiprināts horizontals komunikācijas kanāls 720 x 100mm (+/-50mm) H= 100mm ( +/-20mm), izgatavots no 1,5-2.0 mm bieza tērauda vai metāla režģa, paredzēts pievadkabeļu un savienojošo kabeļu izvietošanai. PET filca starpsienas izmērs viena galda virsmai: 1580x400mm ( +/- 20mm), biezums 20mm ( +/-2mm). PET filca starpsienas blīvums ne mazāks par 120 kg/m³. Katra PET Filca starpsiena stiprinās individuāli uz slēptiem kronšteiniem, kas piestiprināti pie galda. PET filcs nedrīskt būt pielīmēts. | L14: =J14*K14 -> 0
A15: 12 | B15: DG7_K | C15: Divi pretī novietoti, bloķēti, biroja galdi 1600x1400 mm (viena galda virsma 1600x690mm), ar komunikāciju pievadu | E15: Darba galdu komplekts, kas sastāv no diviem stacionāriem, pretī novietotiem un savstarpēji bloķētiem galdiem. Starp galdiem akustiska, ugunsdroša PET filca starpsiena, ar komunikāciju pievadu. Izmērs: darba galda komplektam 1600*1400mm (+/-20mm), H = 740mm (+/-20mm). Izmēri: vienam darba galdam 1600x690mm ( +/-20mm) H = 740mm (+/-20mm). Virsma izgatavota no vismaz 25 mm biezas laminētas kokskaidu plātnes, vienkrāsaina, gluda, matēta, ar 2 mm biezs atbilstoša dekora ABS apmalojums pa virsmas perimetru. Abiem galdiem ir kopīgs un vienots balstrāmis, kājas no metinātas taisnstūra caurules 55 x 20mm ( +/-5mm), biezums vismaz 2mm, kas augšpusē savienota ar savilci no taisnstūra caurules 40 x 20 (+/-5mm) biezums vismaz 2mm. Kājas savienotas ar divām galda virsmu nesošām sijām no taisnstūra caurules 40 x 20mm(+/- 5mm), biezums vismaz 2mm. Metinājumu šuves noslīpētas. Galda kājām ir paredzēta izlīmeņošanas iespēja. Katra galda virsmā izveidoti 2 urbumi D=60-100mm. Vienā no tiem iestrādāts komunikāciju izvadu bloks ar vismaz vienu elektrības kontaktligzdu ar zemējumu, vienu USB-A un vienu UCB-C lādētāju. Otrs urbums segts ar atbilstoša diametra komunikāciju lūku ar noņemamu vāku. Lūkas krāsa -balta vai melna. Zem galda virsmas vai rāmja stiprināts komunikāciju kanāls/sile ar izmēru 720 x 100mm (+/-50mm) , H=100mm (+/-20mm) , locīta no 1,5-2,0mm bieza tērauda vai režģa ar tajā stiprinātu elektrības pagarinātāju ar vismaz 5 elektrības kontaktligzdām ar zemējumu un vismaz 4m garu vadu ar Schuco kontaktdakšu. PET filca starpsienas izmērs: 1580x400mm ( +/- 20mm), biezums 20mm ( +/-2mm).PET filca starpsienas blīvums ne mazāks par 120 kg/m³. Katra PET Filca starpsiena stiprinās individuāli uz slēptiem kronšteiniem, kas piestiprināti pie galda. PET filcs nedrīskt būt pielīmēts. | L15: =J15*K15 -> 0
... A51: 48 | B51: DG25_K | C51: Elektromehāniski regulējams galds, 1600x700mm ar akustisko starpsienu, ar komunikāciju pievadiem | E51: Izmēri : 1600x700mm (+/-20), augstuma regulēšanas diapazons 620-1270mm (+/- 50 mm). Virsma izgatavota no vismaz 25 mm biezas laminētas kokskaidu plātnes. Virsma vienkrāsaina, gluda, matēta, pa virsmas perimetru uzklāts 2 mm biezs, atbilstoša dekora ABS apmalojums. Elektriski regulējama T-veida galda pamatne ar trīs posmu teleskopiskām kolonām, uz plakanām pēdām, aprīkotas ar izlīmeņošanas balstiem. Katrā kājā iebūvēts elektromotors. Kājas savienotas ar teleskopiskām nesošajām sijām. Celtspēja Min. 100 kg. Ātrums 30-40 mm/sek. Galds aprīkots ar pretsadursmes funkciju "Anti-collision". Vadības bloks ar vismaz 3 atmiņas iestatījumiem vēlamā augstuma saglabāšanai. Starpsiena no PET filca plātnes. Izmēri: 1580x750mm ( +/-20mm), biezums 20mm ( +/-2mm). Starpsiena uzstādīta tā, ka 400 mm atrodas virs galda virsmas. Starpsiena pie virsmas tiek stiprināta ar tērauda kronšteiniem, kas ir vizuāli nepamanāmi lietošanas laikā. Galda virsmā izveidoti 2 urbumi D=60-100mm. Vienā no tiem iestrādāts komunikāciju izvadu bloks ar vismaz vienu elektrības kontaktligzdu ar zemējumu, vienu USB-A un vienu UCB-C lādētāju. Otrs urbums aprīkots ar atbilstoša diametra komunikāciju lūku ar noņemamu vāku. Lūkas krāsa -balta vai melna. Zem galda virsmas vai rāmja stiprināts komunikāciju kanāls/sile ar izmēru 720 x 100mm (+/-50mm) , H=100mm (+/-20mm) , locīta no 1,5-2,0mm bieza tērauda vai režģa ar tajā stiprinātu elektrības pagarinātāju ar vismaz 5 elektrības kontaktligzdām ar zemējumu un vismaz 4m garu vadu ar Schuco kontaktdakšu. | L51: =J51*K51 -> 0
C54: KRĀSU PALETE
C55: Grupa | D55: Kods | E55: HEX | F55: Paraugs
C56: NCS mēbelēm | D56: NCS S 1005-Y20R | E56: #E5D8C2
C57: NCS mēbelēm | D57: NCS S 1000-N | E57: #E6E6E6
C58: RAL metāla daļām | D58: RAL 7016 | E58: #383E42
C59: RAL metāla daļām | D59: RAL 9011 | E59: #1E1E1E
C60: PET Filcs | D60: Tumši pelēks | E60: #747474
C61: PET Filcs | D61: Gaiši pelēks | E61: #D9D9D9
C62: Komunikācijas lūka | D62: Balta | E62: #FFFFFF
C63: Komunikācijas lūka | D63: Melna | E63: #000000

Sheet SANĀKSMJU GALDI
A1: TEHNISKĀ SPECIFIKĀCIJA | I1: Finanšu piedāvājums
A2: Nr. p.k. | B2: Identifikācijas kods | C2: Mēbeles veids jeb Nosaukums | D2: Infromatīvs attēls | E2: Specifikācija | F2: KRĀSU TOŅU IZVĒLE | I2: Daudzums | J2: VIENĪBAS CENA EURO BEZ PVN | K2: CENA KOPĀ EUR BEZ PVN
F3: Virsmas tonis | G3: Metāla detaļu tonis | H3: Komunikācijas lūkas krāsa
A4: 1 | B4: SG1 | C4: Sarunu galds 1400x1400mm | E4: Izmērs: 1400 x 1400mm (+/-20mm), H=740 mm (+/- 20 mm). Galda virsma vismaz 25 mm bieza laminēta kokskaidu plātne, gluda, matēta, vienkrāsaina bez raksta, ar 2 mm atbilstoša dekora ABS apmalojums pa perimetru. Galda kājas no taisnstūra formā metinātas caurules 60 x 20 mm(+/-5mm), kas augšpusē savienota ar savilci no taisnstūra caurules 40 x 20 mm(+/-5mm), kājas savienotas ar galda virsmu nesošām sijām no taisnstūra caurules 40 x 20 mm(+/-5mm). Metāla biezums vismaz 2mm. Metinājumu šuves noslīpētas. Metāla daļas pulverkrāsotas, gludas. Galda kājām ir paredzēta izlīmeņošanas iespēja. | K4: =I4*J4 -> 0
A5: 2 | B5: SG1_K | C5: Sarunu galds 1400x1400mm ar komunikāciju pievadiem | E5: Izmērs: 1400 x 1400mm (+/-20mm), H=740 mm (+/- 20 mm). Galda virsma vismaz 25 mm bieza laminēta kokskaidu plātne, gluda, matēta, vienkrāsaina bez raksta, ar 2 mm atbilstoša dekora ABS apmalojums pa perimetru. Galda kājas no taisnstūra formā metinātas caurules 60 x 20 mm(+/-5mm), kas augšpusē savienota ar savilci no taisnstūra caurules 40 x 20 mm(+/-5mm), kājas savienotas ar galda virsmu nesošām sijām no taisnstūra caurules 40 x 20 mm(+/-5mm). Metāla biezums vismaz 2mm. Metinājumu šuves noslīpētas. Metāla daļas pulverkrāsotas, gludas.Galda kājām ir paredzēta izlīmeņošanas iespēja. Galda virsmā, pa vidu, iestrādāta melna vai balta metāla komunikāciju izvadlūka 214x75 mm (+/- 20mm) ar abpusēji atveramu vāku,kurā iestrādāts rozešu bloks ar iebūvētām 2 elektrības kontaktlizdām (ar zemējumu) un 1 tukšu vietu, rozešu bloks aprīkots ar vismaz 4m garu elektrības kabeli un Schuko kontaktdakšu. Zem galda virsmas stiprināti 720 x 100mm( +/-50mm), H= 100mm ( +/-20mm) izmēra horizontāli komunikāciju kanāli, locīti no 1,5-2.0 mm bieza tērauda vai režģa pievadkabeļu un savienojošo kabeļu izvietošanai. | K5: =I5*J5 -> 0
A6: 3 | B6: SG2 | C6: Apspriežu galds 1600x800mm | E6: Izmērs: 1600X800mm (+/-20mm), H=740 mm (+/- 20 mm). Galda virsma vismaz 25 mm bieza laminēta kokskaidu plātne, gluda, matēta, vienkrāsaina bez raksta, ar 2 mm atbilstoša dekora ABS apmalojums pa perimetru. Galda kājas no taisnstūra formā metinātas caurules 60 x 20 mm(+/-5mm), kas augšpusē savienota ar savilci no taisnstūra caurules 40 x 20 mm(+/-5mm), kājas savienotas ar galda virsmu nesošām sijām no taisnstūra caurules 40 x 20 mm(+/-5mm). Metāla biezums vismaz 2mm. Metinājumu šuves noslīpētas. Metāla daļas pulverkrāsotas, gludas. Galda kājām ir paredzēta izlīmeņošanas iespēja.
A7: 4 | B7: SG2_K | C7: Apspriežu galds 1600x800mm ar komunikāciju pievadu | E7: Izmērs: 1600 x 800mm (+/-20mm), H=740 mm (+/- 20 mm). Galda virsma vismaz 25 mm bieza laminēta kokskaidu plātne, gluda, matēta, vienkrāsaina bez raksta, ar 2 mm atbilstoša dekora ABS apmalojums pa perimetru. Galda kājas no taisnstūra formā metinātas caurules 60 x 20 mm(+/-5mm), kas augšpusē savienota ar savilci no taisnstūra caurules 40 x 20 mm(+/-5mm), kājas savienotas ar galda virsmu nesošām sijām no taisnstūra caurules 40 x 20 mm(+/-5mm). Metāla biezums vismaz 2mm. Metinājumu šuves noslīpētas. Metāla daļas pulverkrāsotas, gludas.Galda kājām ir paredzēta izlīmeņošanas iespēja. Galda virsmā, pa vidu, iestrādāta melna vai balta metāla komunikāciju izvadlūka 214x75 mm (+/- 20mm) ar abpusēji atveramu vāku,kurā iestrādāts rozešu bloks ar iebūvētām 2 elektrības kontaktlizdām (ar zemējumu) un 1 tukšu vietu, rozešu bloks aprīkots ar vismaz 4m garu elektrības kabeli un Schuko kontaktdakšu. Zem galda virsmas stiprināti 720 x 100mm( +/-50mm), H= 100mm ( +/-20mm) izmēra horizontāli komunikāciju kanāli, locīti no 1,5-2.0 mm bieza tērauda vai režģa pievadkabeļu un savienojošo kabeļu izvietošanai.
A8: 5 | B8: SG3 | C8: Galds ar koka kājām 1000x1000mm | E8: Izmērs: 1000x1000mm (+/-20mm), H=740mm (+/-20mm). Galda virsmas vismaz 36 mm bieza laminēta kokskaidu plātne, gluda, matēta, vienkrāsaina bez raksta, ar 2 mm atbilstoša dekora ABS apmalojums pa perimetru. Galda rāmis atbilst galda virsmaz izmēram, nodrošinot stabilitāti. Galda rāmis sastāv no diviem kāju pāriem, kuri savstarpēji savienoti ar nesošām metāla sijām. Katrs kāju pāris ir apgriezta "V' burta formā, katra kāja novietota 20 grādu slīpumā no vertikālās ass. Attālums starp abām kājām uz grīdas 680 mm (+/-15mm). Galda rāmis un nesošās sijas izgatavotas no metāla, apdare - melna krāsa, kājas izgatavotas no masīva ozolkoka ar min. šķērsgriezumu 70x40mm, apdare- balināts ozols. | K8: =I8*J8 -> 0
A9: 6 | B9: SG4 | C9: Galds ar koka kājām 1800x900mm | E9: Izmērs 1800x900mm(+/-20mm), H=740mm (+/-20mm), 6-8 vietas. Galda virsmas vismaz 36 mm bieza laminēta kokskaidu plātne, gluda, matēta, vienkrāsaina bez raksta, ar 2 mm atbilstoša dekora ABS apmalojums pa perimetru. Galda rāmis atbilst galda virsmaz izmēram, nodrošinot stabilitāti. Galda rāmis sastāv no diviem kāju pāriem, kuri savstarpēji savienoti ar nesošām metāla sijām. Katrs kāju pāris ir apgriezta "V' burta formā, katra kāja novietota 20 grādu slīpumā no vertikālās ass. Attālums starp abām kājām uz grīdas 680 mm (+/-15mm). Galda rāmis un nesošās sijas izgatavotas no metāla, apdare - melna krāsa, kājas izgatavotas no masīva ozolkoka ar min. šķērsgriezumu 70x40mm, apdare- balināts ozols. | K9: =I9*J9 -> 0
A10: 7 | B10: SG4_K | C10: Galds ar koka kājām 1800x900mm, ar komunikāciju pievadu | E10: Izmērs 1800x900mm (+/-20mm), H=740mm (+/-20mm), 6-8 vietas. Galda virsmas vismaz 36 mm bieza laminēta kokskaidu plātne, gluda, matēta, vienkrāsaina bez raksta, ar 2 mm atbilstoša dekora ABS apmalojums pa perimetru. Galda rāmis atbilst galda virsmaz izmēram, nodrošinot stabilitāti. Galda rāmis sastāv no diviem kāju pāriem, kuri savstarpēji savienoti ar nesošām metāla sijām. Katrs kāju pāris ir apgriezta "V' burta formā, katra kāja novietota 20 grādu slīpumā no vertikālās ass. Attālums starp abām kājām uz grīdas 680 mm (+/-15mm). Galda rāmis un nesošās sijas izgatavotas no metāla, apdare - melna krāsa, kājas izgatavotas no masīva ozolkoka ar min. šķērsgriezumu 70x40mm, apdare- balināts ozols. Galda virsmā, pa vidu, iestrādāta melna vai balta metāla komunikāciju izvadlūka 310 x 150 mm (+/- 20mm) ar abpusēji atveramu vāku,kurā iestrādāts rozešu bloks ar iebūvētām 3 elektrības kontaktlizdām (ar zemējumu) un 1 tukšu vietu, rozešu bloks aprīkots ar vismaz 4m garu elektrības kabeli un Schuko kontaktdakšu. Zem galda virsmas stiprināti 720 x 100mm( +/-50mm), H= 100mm ( +/-20mm) izmēra horizontāli komunikāciju kanāli, locīti no 1,5-2.0 mm bieza tērauda vai režģa pievadkabeļu un savienojošo kabeļu izvietošanai. | K10: =I10*J10 -> 0
A11: 8 | B11: SG5 | C11: Galds ar koka kājām 1800x1000mm | E11: Izmērs 1800x1000mm (+/-20mm), H=740mm (+/-20mm), 8 vietas. Galda virsmas vismaz 36 mm bieza laminēta kokskaidu plātne, gluda, matēta, vienkrāsaina bez raksta, ar 2 mm atbilstoša dekora ABS apmalojums pa perimetru. Galda rāmis atbilst galda virsmaz izmēram, nodrošinot stabilitāti. Galda rāmis sastāv no diviem kāju pāriem, kuri savstarpēji savienoti ar nesošām metāla sijām. Katrs kāju pāris ir apgriezta "V' burta formā, katra kāja novietota 20 grādu slīpumā no vertikālās ass. Attālums starp abām kājām uz grīdas 680 mm (+/-15mm). Galda rāmis un nesošās sijas izgatavotas no metāla, apdare - melna krāsa, kājas izgatavotas no masīva ozolkoka ar min. šķērsgriezumu 70x40mm, apdare- balināts ozols. | K11: =I11*J11 -> 0
A12: 9 | B12: SG5_K | C12: Galds ar koka kājām 1800x1000mm, ar komunikāciju pievadu | E12: Izmērs 1800x1000mm (+/-20mm), H=740mm ( +/-20mm), 6-8 vietas. Galda virsmas vismaz 36 mm bieza laminēta kokskaidu plātne, gluda, matēta, vienkrāsaina bez raksta, ar 2 mm atbilstoša dekora ABS apmalojums pa perimetru. Galda rāmis atbilst galda virsmaz izmēram, nodrošinot stabilitāti. Galda rāmis sastāv no diviem kāju pāriem, kuri savstarpēji savienoti ar nesošām metāla sijām. Katrs kāju pāris ir apgriezta "V' burta formā, katra kāja novietota 20 grādu slīpumā no vertikālās ass. Attālums starp abām kājām uz grīdas 680 mm (+/-15mm). Galda rāmis un nesošās sijas izgatavotas no metāla, apdare - melna krāsa, kājas izgatavotas no masīva ozolkoka ar min. šķērsgriezumu 70x40mm, apdare- balināts ozols. Galda virsmā, pa vidu, iestrādāta melna vai balta metāla komunikāciju izvadlūka 310 x 150 mm (+/- 20mm) ar abpusēji atveramu vāku,kurā iestrādāts rozešu bloks ar iebūvētām 3 elektrības kontaktlizdām (ar zemējumu) un 1 tukšu vietu, rozešu bloks aprīkots ar vismaz 4m garu elektrības kabeli un Schuko kontaktdakšu.Zem galda virsmas stiprināti 720 x 100mm( +/-50mm), H= 100mm ( +/-20mm) izmēra horizontāli komunikāciju kanāli, locīti no 1,5-2.0 mm bieza tērauda vai režģa pievadkabeļu un savienojošo kabeļu izvietošanai. | K12: =I12*J12 -> 0
A13: 10 | B13: SG6 | C13: Galds ar koka kājām 2400x1000mm | E13: Izmērs 2400x1000mm (+/-20mm), H=740mm ( +/-20mm), 8-10 vietas. Galda virsmas vismaz 36 mm bieza laminēta kokskaidu plātne, gluda, matēta, vienkrāsaina bez raksta, ar 2 mm atbilstoša dekora ABS apmalojums pa perimetru. Galda rāmis atbilst galda virsmaz izmēram, nodrošinot stabilitāti. Galda rāmis sastāv no diviem kāju pāriem, kuri savstarpēji savienoti ar nesošām metāla sijām. Katrs kāju pāris ir apgriezta "V' burta formā, katra kāja novietota 20 grādu slīpumā no vertikālās ass. Attālums starp abām kājām uz grīdas 680 mm (+/-15mm). Galda rāmis un nesošās sijas izgatavotas no metāla, apdare - melna krāsa, kājas izgatavotas no masīva ozolkoka ar min. šķērsgriezumu 70x40mm, apdare- balināts ozols. | K13: =I13*J13 -> 0
A14: 11 | B14: SG6_K | C14: Galds ar koka kājām 2400x1000mm, ar komunikāciju pievadu | E14: Izmērs 2400x1000mm (+/-20mm), H=740mm ( +/-20mm), 8-10 vietas. Galda virsmas vismaz 36 mm bieza laminēta kokskaidu plātne, gluda, matēta, vienkrāsaina bez raksta, ar 2 mm atbilstoša dekora ABS apmalojums pa perimetru. Galda rāmis atbilst galda virsmaz izmēram, nodrošinot stabilitāti. Galda rāmis sastāv no diviem kāju pāriem, kuri savstarpēji savienoti ar nesošām metāla sijām. Katrs kāju pāris ir apgriezta "V' burta formā, katra kāja novietota 20 grādu slīpumā no vertikālās ass. Attālums starp abām kājām uz grīdas 680 mm (+/-15mm). Galda rāmis un nesošās sijas izgatavotas no metāla, apdare - melna krāsa, kājas izgatavotas no masīva ozolkoka ar min. šķērsgriezumu 70x40mm, apdare- balināts ozols. Galda virsmā iestrādātas divas, iestrādāta melna vai balta metāla komunikāciju izvadlūka 310 x 150 mm (+/- 20mm) ar abpusēji atveramu vāku,kurā iestrādāts rozešu bloks ar iebūvētām 3 elektrības kontaktlizdām (ar zemējumu) un 1 tukšu vietu, rozešu bloks aprīkots ar vismaz 4m garu elektrības kabeli un Schuko kontaktdakšu.Zem galda virsmas stiprināti 720 x 100mm( +/-50mm), H= 100mm ( +/-20mm) izmēra horizontāli komunikāciju kanāli, locīti no 1,5-2.0 mm bieza tērauda vai režģa pievadkabeļu un savienojošo kabeļu izvietošanai. | K14: =I14*J14 -> 0
A15: 12 | B15: SG7 | C15: Galds ar koka kājām 3000x1000mm | E15: Izmērs 3000x1000mm (+/-20mm), H=740mm ( +/-20mm), 10-12 vietas. Galda virsmas vismaz 36 mm bieza laminēta kokskaidu plātne, gluda, matēta, vienkrāsaina bez raksta, ar 2 mm atbilstoša dekora ABS apmalojums pa perimetru. Galda rāmis atbilst galda virsmaz izmēram, nodrošinot stabilitāti. Galda rāmis sastāv no diviem kāju pāriem, kuri savstarpēji savienoti ar nesošām metāla sijām. Katrs kāju pāris ir apgriezta "V' burta formā, katra kāja novietota 20 grādu slīpumā no vertikālās ass. Attālums starp abām kājām uz grīdas 680 mm (+/-15mm). Galda rāmis un nesošās sijas izgatavotas no metāla, apdare - melna krāsa, kājas izgatavotas no masīva ozolkoka ar min. šķērsgriezumu 70x40mm, apdare- balināts ozols. | K15: =I15*J15 -> 0
A16: 13 | B16: SG7_K | C16: Galds ar koka kājām 3000x1000mm, ar komunikāciju pievadu | E16: Izmērs 3000x1000mm (+/-20mm), H=740mm ( +/-20mm), 10-12 vietas. Galda virsmas vismaz 36 mm bieza laminēta kokskaidu plātne, gluda, matēta, vienkrāsaina bez raksta, ar 2 mm atbilstoša dekora ABS apmalojums pa perimetru. Galda rāmis atbilst galda virsmaz izmēram, nodrošinot stabilitāti. Galda rāmis sastāv no diviem kāju pāriem, kuri savstarpēji savienoti ar nesošām metāla sijām. Katrs kāju pāris ir apgriezta "V' burta formā, katra kāja novietota 20 grādu slīpumā no vertikālās ass. Attālums starp abām kājām uz grīdas 680 mm (+/-15mm). Galda rāmis un nesošās sijas izgatavotas no metāla, apdare - melna krāsa, kājas izgatavotas no masīva ozolkoka ar min. šķērsgriezumu 70x40mm, apdare- balināts ozols. Galda virsmā iestrādātas divas, iestrādāta melna vai balta metāla komunikāciju izvadlūka 310 x 150 mm (+/- 20mm) ar abpusēji atveramu vāku,kurā iestrādāts rozešu bloks ar iebūvētām 3 elektrības kontaktlizdām (ar zemējumu) un 1 tukšu vietu, rozešu bloks aprīkots ar vismaz 4m garu elektrības kabeli un Schuko kontaktdakšu. Zem galda virsmas stiprināti 720 x 100mm( +/-50mm), H= 100mm ( +/-20mm) izmēra horizontāli komunikāciju kanāli, locīti no 1,5-2.0 mm bieza tērauda vai režģa pievadkabeļu un savienojošo kabeļu izvietošanai. | K16: =I16*J16 -> 0
A17: 14 | B17: SG8 | C17: Galds ar koka kājām 3000x1200mm | E17: Izmērs 3000x1200mm (+/-20mm), H=740mm ( +/-20mm), 10-12 vietas. Galda virsmas vismaz 36 mm bieza laminēta kokskaidu plātne, gluda, matēta, vienkrāsaina bez raksta, ar 2 mm atbilstoša dekora ABS apmalojums pa perimetru. Galda rāmis atbilst galda virsmaz izmēram, nodrošinot stabilitāti. Galda rāmis sastāv no diviem kāju pāriem, kuri savstarpēji savienoti ar nesošām metāla sijām. Katrs kāju pāris ir apgriezta "V' burta formā, katra kāja novietota 20 grādu slīpumā no vertikālās ass. Attālums starp abām kājām uz grīdas 680 mm (+/-15mm). Galda rāmis un nesošās sijas izgatavotas no metāla, apdare - melna krāsa, kājas izgatavotas no masīva ozolkoka ar min. šķērsgriezumu 70x40mm, apdare- balināts ozols. | K17: =I17*J17 -> 0
A18: 15 | B18: SG8_K | C18: Galds ar koka kājām 3000x1200mm, ar komunikāciju pievadu | E18: Izmērs 3000x1200mm (+/-20mm), H=740mm ( +/-20mm), 10-12 vietas. Galda virsmas vismaz 36 mm bieza laminēta kokskaidu plātne, gluda, matēta, vienkrāsaina bez raksta, ar 2 mm atbilstoša dekora ABS apmalojums pa perimetru. Galda rāmis atbilst galda virsmaz izmēram, nodrošinot stabilitāti. Galda rāmis sastāv no diviem kāju pāriem, kuri savstarpēji savienoti ar nesošām metāla sijām. Katrs kāju pāris ir apgriezta "V' burta formā, katra kāja novietota 20 grādu slīpumā no vertikālās ass. Attālums starp abām kājām uz grīdas 680 mm (+/-15mm). Galda rāmis un nesošās sijas izgatavotas no metāla, apdare - melna krāsa, kājas izgatavotas no masīva ozolkoka ar min. šķērsgriezumu 70x40mm, apdare- balināts ozols. Galda virsmā iestrādātas divas, iestrādāta melna vai balta metāla komunikāciju izvadlūka 310 x 150 mm (+/- 20mm) ar abpusēji atveramu vāku,kurā iestrādāts rozešu bloks ar iebūvētām 3 elektrības kontaktlizdām (ar zemējumu) un 1 tukšu vietu, rozešu bloks aprīkots ar vismaz 4m garu elektrības kabeli un Schuko kontaktdakšu. Zem galda virsmas stiprināti 720 x 100mm( +/-50mm), H= 100mm ( +/-20mm) izmēra horizontāli komunikāciju kanāli, locīti no 1,5-2.0 mm bieza tērauda vai režģa pievadkabeļu un savienojošo kabeļu izvietošanai. | K18: =I18*J18 -> 0
A19: 16 | B19: SG9 | C19: Galds ar koka kājām 3600x1200mm | E19: Izmērs 3600x1200mm (+/-20mm), H=740mm ( +/-20mm), 12-14 vietas. Galda virsmas vismaz 36 mm bieza laminēta kokskaidu plātne, gluda, matēta, vienkrāsaina bez raksta, ar 2 mm atbilstoša dekora ABS apmalojums pa perimetru. Galda rāmis atbilst galda virsmaz izmēram, nodrošinot stabilitāti. Galda rāmis sastāv no diviem kāju pāriem, kuri savstarpēji savienoti ar nesošām metāla sijām. Katrs kāju pāris ir apgriezta "V' burta formā, katra kāja novietota 20 grādu slīpumā no vertikālās ass. Attālums starp abām kājām uz grīdas 680 mm (+/-15mm). Galda rāmis un nesošās sijas izgatavotas no metāla, apdare - melna krāsa, kājas izgatavotas no masīva ozolkoka ar min. šķērsgriezumu 70x40mm, apdare- balināts ozols. | K19: =I19*J19 -> 0
... A26: 23 | B26: SG12_K | C26: Liels, apaļš apspriežu galds D=2000 mm, ar komunikāciju pievadu | E26: Izmēri D=2000mm (+/-20mm), H=740mm ( +/-20mm), ar komunikāciju pievadu. Galda virsma vismaz 25 mm bieza laminēta kokskaidu plātne, gluda, matēta, vienkrāsaina bez raksta, ar 2 mm atbilstoša dekora ABS apmalojums pa perimetru. Galda kāja – kolonna izgatavota no vidēja blīvuma kokšķiedru plātnes (MDF), kas paredzēta liektas formas elementiem. Konstrukcija iekšpusē pastiprināta ar ribām, nodrošinot stabilitāti, noturību pret deformācijām un vienmērīgu slodzes sadalījumu. Galda virsma aprīkota ar četriem komunikāciju rāmjiem ( galda vidū), katrs 214X75 mm (+/- 10mm) ar abpusēji atveramu vāku, kurā iestrādāts rozešu bloks ar iebūvētām 2 elektrības kontaktlizdām (ar zemējumu) un 1 tukšu vietu, rozešu bloks aprīkots ar vismaz 4m garu elektrības kabeli un Schuko kontaktdakšu. | K26: =I26*J26 -> 0
C28: KRĀSU PALETE
C29: Grupa | D29: Kods | E29: HEX | F29: Paraugs
C30: NCS mēbelēm | D30: NCS S 1005-Y20R | E30: #E5D8C2
C31: NCS mēbelēm | D31: NCS S 2010-Y20R | E31: #D8C8AA
C32: NCS mēbelēm | D32: NCS S 3010-Y20R | E32: #C0A98A
C33: NCS mēbelēm | D33: NCS S 1000-N | E33: #E6E6E6
C34: NCS mēbelēm | D34: NCS S 2500-N | E34: #C8C8C8
C35: NCS mēbelēm | D35: NCS S 4000-N | E35: #8C8C8C
C36: RAL metāla detaļām | D36: RAL 7016 | E36: #383E42
C37: RAL metāla detaļām | D37: RAL 9010 | E37: #F7F8F3
C38: RAL metāla detaļām | D38: RAL 9011 | E38: #1E1E1E
C39: Komunikācijas lūka | D39: Balta | E39: #FFFFFF
C40: Komunikācijas lūka | D40: Melna | E40: #000000

Sheet CITI GALDI
A1: TEHNISKĀ SPECIFIKĀCIJA | I1: Finanšu piedāvājums
A2: Nr. p.k. | B2: Identifikācijas kods | C2: Mēbeles veids jeb Nosaukums | D2: Infromatīvs attēls | E2: Specifikācija | F2: KRĀSU TOŅU IZVĒLE | I2: Daudzums | J2: VIENĪBAS CENA EURO BEZ PVN | K2: CENA KOPĀ EUR BEZ PVN
F3: Virsmas tonis | G3: Metāla detaļu tonis | H3: Komunikācijas lūkas krāsa
A4: 1 | B4: CG1 | C4: Apaļš galds uz centrālas kājas D=600 mm | E4: Izmēri D=600 (+/-20mm), H=500 (+/-20mm). Apaļš galds uz centrālās kājas ar apaļu vai kvadrāta, vai noapaļota kvadrāta pamatni. Galda virsma vismaz 25 mm bieza laminēta kokskaidu plātne, gluda, matēta, vienkrāsaina bez raksta, ar 2 mm atbilstoša dekora ABS apmalojums pa perimetru. Galda kāja no tērauda caurule D=40mm ( +/- 5mm) uz 450x450mm ( +/- 20mm) lielas kvadrāta pamatnes ar noapaļotām malām un stūriem, un plastikāta izlīdzināšanas peciņām. Virsmu balsta 270x270mm (+/- 20mm) čuguna lējuma krusts . Detaļas savilktas ar vītņstieni. Metinājumu šuves noslīpētas. Metāla daļas pulverkrāsotas, gludas. | K4: =I4*J4 -> 0
A5: 2 | B5: CG2 | C5: Apaļš galds uz centrālas kājas D=1000 mm | E5: Izmēri D=1000 (+/-20mm), H=500 (+/-20mm). Apaļš galds uz centrālās kājas ar apaļu vai kvadrāta, vai noapaļota kvadrāta pamatni. Galda virsma vismaz 25 mm bieza laminēta kokskaidu plātne, gluda, matēta, vienkrāsaina bez raksta, ar 2 mm atbilstoša dekora ABS apmalojums pa perimetru. Galda kāja no tērauda caurule D=40mm ( +/- 5mm) uz 450x450mm ( +/- 20mm) lielas kvadrāta pamatnes ar noapaļotām malām un stūriem, un plastikāta izlīdzināšanas peciņām. Virsmu balsta 270x270mm (+/- 20mm) čuguna lējuma krusts . Detaļas savilktas ar vītņstieni. Metinājumu šuves noslīpētas. Metāla daļas pulverkrāsotas, gludas. | K5: =I5*J5 -> 0
A6: 3 | B6: CG3 | C6: Apaļš galds uz centrālas kājas D=800m | E6: Izmēri D=800mm (+/-20mm), H=740mm ( +/-20mm). Apaļš galds uz centrālās kājas ar apaļu vai kvadrāta, vai noapaļota kvadrāta pamatni. Galda virsma vismaz 25 mm bieza laminēta kokskaidu plātne, gluda, matēta, vienkrāsaina bez raksta, ar 2 mm atbilstoša dekora ABS apmalojums pa perimetru. Galda kāja no tērauda caurule D=40mm ( +/- 5mm) uz 450x450mm ( +/- 20mm) lielas kvadrāta pamatnes ar noapaļotām malām un stūriem, un plastikāta izlīdzināšanas peciņām. Virsmu balsta 270x270mm (+/- 20mm) čuguna lējuma krusts . Detaļas savilktas ar vītņstieni. Metinājumu šuves noslīpētas. Metāla daļas pulverkrāsotas, gludas. | K6: =I6*J6 -> 0
A7: 4 | B7: CG4 | C7: Apaļš galds uz centrālas kājas D=1000m | E7: Izmēri D=1000mm (+/-20mm), H=740mm ( +/-20mm). Apaļš galds uz centrālās kājas ar apaļu vai kvadrāta, vai noapaļota kvadrāta pamatni. Galda virsma vismaz 25 mm bieza laminēta kokskaidu plātne, gluda, matēta, vienkrāsaina bez raksta, ar 2 mm atbilstoša dekora ABS apmalojums pa perimetru. Galda kāja no tērauda caurule D=40mm ( +/- 5mm) uz 450x450mm ( +/- 20mm) lielas kvadrāta pamatnes ar noapaļotām malām un stūriem, un plastikāta izlīdzināšanas peciņām. Virsmu balsta 270x270mm (+/- 20mm) čuguna lējuma krusts . Detaļas savilktas ar vītņstieni. Metinājumu šuves noslīpētas. Metāla daļas pulverkrāsotas, gludas. | K7: =I7*J7 -> 0
A8: 5 | B8: CG5 | C8: Apaļš galds uz centrālas kājas D=1200 mm | E8: Izmēri D=1200 (+/-20mm), H=740mm ( +/-20mm). Apaļš galds uz centrālās kājas ar apaļu vai kvadrāta, vai noapaļota kvadrāta pamatni. Galda virsma vismaz 25 mm bieza laminēta kokskaidu plātne, gluda, matēta, vienkrāsaina bez raksta, ar 2 mm atbilstoša dekora ABS apmalojums pa perimetru. Galda kāja no tērauda caurule D=40mm ( +/- 5mm) uz 550x550mm ( +/- 50mm) lielas kvadrāta pamatnes ar noapaļotām malām un stūriem, un plastikāta izlīdzināšanas peciņām. Virsmu balsta 270x270mm (+/- 20mm) čuguna lējuma krusts . Detaļas savilktas ar vītņstieni. Metinājumu šuves noslīpētas. Metāla daļas pulverkrāsotas, gludas. | K8: =I8*J8 -> 0
A9: 6 | B9: CG6 | C9: Augstais galds uz centrālas kājas 600x600mm | E9: Izmēri 600x600mm (+/-20mm) , H=1100(+/-20mm)/ Galda virsma vismaz 25 mm bieza laminēta kokskaidu plātne, gluda, matēta, vienkrāsaina bez raksta, ar 2 mm atbilstoša dekora ABS apmalojums pa perimetru. Galda kāja no tērauda caurule D=40mm ( +/- 5mm) uz 450x450mm ( +/- 20mm) lielas kvadrāta pamatnes ar noapaļotām malām un stūriem, un plastikāta izlīdzināšanas peciņām. Virsmu balsta 270x270mm (+/- 20mm) čuguna lējuma krusts . Detaļas savilktas ar vītņstieni. Metinājumu šuves noslīpētas. Metāla daļas pulverkrāsotas, gludas. | K9: =I9*J9 -> 0
A10: 7 | B10: CG7 | C10: Galds, augstais | E10: Izmērs D=700 mm(+/-20mm), H=1100mm (+/-20mm). Galda virsma vismaz 25 mm bieza laminēta kokskaidu plātne, gluda, matēta, vienkrāsaina bez raksta, ar 2 mm atbilstoša dekora ABS apmalojums pa perimetru. Galda centrālā balsta kāja izgatavota no tērauda ar betona pamatni ar smalku graudiņu. Galda kājas svars 28kg (+/-2kg). | K10: =I10*J10 -> 0
A11: 8 | B11: CG8 | C11: Pārvietojams galds ar nolokāmu virsmu 1200x700mm | E11: Izmēri 1200x700 mm (+/-20mm), H=740mm ( +/-20mm). PIemērojams lietošānai kā darba galds vai sanāksmju telpu galdi. Galda virsma vismaz 25 mm bieza laminēta kokskaidu plātne, gluda, matēta, vienkrāsaina bez raksta, ar 2 mm atbilstoša dekora ABS apmalojums pa perimetru. Galda kājas apgāzta T‑formas, izgatavotas no tērauda profiliem vai caurulēm, konstruktīvi nodrošinot stabilitāti un galdu savietošanu rindā / noliktavā. Kājas savienotas ar nesošu tērauda siju, uz kuras stiprināts virsmas nolocīšanas mehānisms, kas iedarbināms ar sprūda mehānismu. Konstrukcijas elementi savienoti ar metāla vai polimēra furnitūru. Galda kājas uz riteņiem D=75mm (+/- 15mm) ar bremzēm. Metinājumu šuves noslīpētas. Metāla daļas pulverkrāsotas, gludas. Galda konstrukcijai jānodrošina galdu cieša savietošana vienu pie otra, kā attēlots pievienotajā vizuālajā materiālā. | K11: =I11*J11 -> 0
A12: 9 | B12: CG9 | C12: Pārvietojams galds ar nolokāmu virsmu 1400x700mm | E12: Izmēri 1400x700 mm (+/-20mm), H=740mm (+/-20mm). PIemērojams lietošānai kā darba galds vai sanāksmju telpu galdi. Galda virsma vismaz 25 mm bieza laminēta kokskaidu plātne, gluda, matēta, vienkrāsaina bez raksta, ar 2 mm atbilstoša dekora ABS apmalojums pa perimetru. Galda kājas apgāzta T‑formas, izgatavotas no tērauda profiliem vai caurulēm, konstruktīvi nodrošinot stabilitāti un galdu savietošanu rindā / noliktavā. Kājas savienotas ar nesošu tērauda siju, uz kuras stiprināts virsmas nolocīšanas mehānisms, kas iedarbināms ar sprūda mehānismu. Konstrukcijas elementi savienoti ar metāla vai polimēra furnitūru. Galda kājas uz riteņiem D=75mm (+/- 15mm) ar bremzēm. Metinājumu šuves noslīpētas. Metāla daļas pulverkrāsotas, gludas. Galda konstrukcijai jānodrošina galdu cieša savietošana vienu pie otra, kā attēlots pievienotajā vizuālajā materiālā. | K12: =I12*J12 -> 0
A13: 10 | B13: CG10 | C13: Pārvietojams galds ar nolokāmu virsmu 1200x800mm | E13: Izmēri 1200x800 mm (+/-20mm), H=740mm ( +/-20mm). PIemērojams lietošānai kā darba galds vai sanāksmju telpu galdi. Galda virsma vismaz 25 mm bieza laminēta kokskaidu plātne, gluda, matēta, vienkrāsaina bez raksta, ar 2 mm atbilstoša dekora ABS apmalojums pa perimetru. Galda kājas apgāzta T‑formas, izgatavotas no tērauda profiliem vai caurulēm, konstruktīvi nodrošinot stabilitāti un galdu savietošanu rindā / noliktavā. Kājas savienotas ar nesošu tērauda siju, uz kuras stiprināts virsmas nolocīšanas mehānisms, kas iedarbināms ar sprūda mehānismu. Konstrukcijas elementi savienoti ar metāla vai polimēra furnitūru. Galda kājas uz riteņiem D=75mm (+/- 15mm) ar bremzēm. Metinājumu šuves noslīpētas. Metāla daļas pulverkrāsotas, gludas. Galda konstrukcijai jānodrošina galdu cieša savietošana vienu pie otra, kā attēlots pievienotajā vizuālajā materiālā. | K13: =I13*J13 -> 0
A14: 11 | B14: CG11 | C14: Pārvietojams galds ar nolokāmu virsmu 1400x800mm | E14: Izmēri 1400x800 mm (+/-20mm), H=740mm (+/-20mm). PIemērojams lietošānai kā darba galds vai sanāksmju telpu galdi. Galda virsma vismaz 25 mm bieza laminēta kokskaidu plātne, gluda, matēta, vienkrāsaina bez raksta, ar 2 mm atbilstoša dekora ABS apmalojums pa perimetru. Galda kājas apgāzta T‑formas, izgatavotas no tērauda profiliem vai caurulēm, konstruktīvi nodrošinot stabilitāti un galdu savietošanu rindā / noliktavā. Kājas savienotas ar nesošu tērauda siju, uz kuras stiprināts virsmas nolocīšanas mehānisms, kas iedarbināms ar sprūda mehānismu. Konstrukcijas elementi savienoti ar metāla vai polimēra furnitūru. Galda kājas uz riteņiem D=75mm (+/- 15mm) ar bremzēm. Metinājumu šuves noslīpētas. Metāla daļas pulverkrāsotas, gludas. Galda konstrukcijai jānodrošina galdu cieša savietošana vienu pie otra, kā attēlots pievienotajā vizuālajā materiālā. | K14: =I14*J14 -> 0
A15: 12 | B15: CG12 | C15: Galds palīgtelpām 1000x500 mm | E15: Izmēri: 1000x500 mm (+/-20mm), H=740mm ( +/-20mm), Galda virsma vismaz 25 mm bieza laminēta kokskaidu plātne, gluda, matēta, vienkrāsaina bez raksta, ar 2 mm atbilstoša dekora ABS apmalojums pa perimetru. Galda kājas no T formā metinātām taisnstūra caurulēm, kā centrālā caurule 60x20 mm (+/-5 mm) biezums vismaz 2mm, kam augšpusē metināts plakandzelzis galda virsmas stiprināšanai, apakšā centrā metināta taisnstūra caurule 20x40mm ( +/-5 mm), biezums vismaz 2mm. Galda kājām ir paredzēta izlīmeņošanas iespēja 15 mm (+/-5mm) amplitūdā. Metinājumu šuves noslīpētas. Metāla daļas pulverkrāsotas, gludas. | K15: =I15*J15 -> 0
... A25: 22 | B25: CG22 | C25: Zemais žurnālu galdiņš uz 4 kājām | E25: Galdiņš. Izmērs 500x500mm ( +/-20mm), H=500mm ( +/-20mm). Galda kājas konusveida, izgatavotas no oša masīvkoka, kas pārklāts ar pelēkas krāsas beici. Galda virsma izgatavota no oša masīvkoka, kas pārklāts ar pelēkas krāsas beici. Beices toni saskaņot projekta realizācijas gaitā. Galda virsmas biezums ar 45 grādu noslīpinājumu uz galda centra virsmas apakšējo malu. | K25: =I25*J25 -> 0
C27: KRĀSU PALETE
C28: Grupa | D28: Kods | E28: HEX | F28: Paraugs
C29: NCS mēbelēm | D29: NCS S 1005-Y20R | E29: #E5D8C2
C30: NCS mēbelēm | D30: NCS S 2010-Y20R | E30: #D8C8AA
C31: NCS mēbelēm | D31: NCS S 3010-Y20R | E31: #C0A98A
C32: NCS mēbelēm | D32: NCS S 1000-N | E32: #E6E6E6
C33: NCS mēbelēm | D33: NCS S 2500-N | E33: #C8C8C8
C34: NCS mēbelēm | D34: NCS S 4000-N | E34: #8C8C8C
C35: RAL metāla detaļām | D35: RAL 7016 | E35: #383E42
C36: RAL metāla detaļām | D36: RAL 9010 | E36: #F7F8F3
C37: RAL metāla detaļām | D37: RAL 9011 | E37: #1E1E1E
C38: Komunikācijas lūka | D38: Balta | E38: #FFFFFF
C39: Komunikācijas lūka | D39: Melna | E39: #000000

Sheet KRĒSLI
A1: TEHNISKĀ SPECIFIKĀCIJA | G1: Finanšu piedāvājums
A2: Nr. p.k. | B2: Identifikācijas kods | C2: Mēbeles veids jeb Nosaukums | D2: Infromatīvs attēls | E2: Specifikācija | F2: Iespējamie krāsu toņi | G2: Daudzums | H2: VIENĪBAS CENA EURO BEZ PVN | I2: CENA KOPĀ EUR BEZ PVN
A3: 1 | B3: DK1 | C3: Darba krēsls | E3: Ergonomisks darba krēsls ar roku balstiem. Izmēri: 700x700mm, H=1210-1340mm ( +/-30mm). Atzveltne: augstums 550mm, platums jostas daļā 470mm - augšdaļā 430mm (augšdaļā) ( +/- 30mm)- ar fiksētu augstumu un augstumā regulējamu jostas vietas balstu - armēta polipropilēna rāmī iestiepts siets. Sēdeklis: izmēri 480x450mm (+/- 50mm)polipropilēna Pamatne polsterēta ar ugunsdrošu poliuretānu (1 IM klase, Crib 5, blīvums 40 kg/m³).Tapsējums no augstas kvalitātes mēbeļu auduma ar nodilumizturību vismaz 100 000 ciklu pēc Martindale skalas; tapsējuma auduma nodilumizturība un ugunsdrošība ir apliecināma ar akreditētas testēšanas laboratorijas izdotu sertifikātu. Augstuma regulācija ar gāzes atsperi 455-585mm (+/-30mm) amplitūdā, sēdekļa dziļuma regulācija 75mm robežās, augstumā 140-210mm (+/-30mm), platumā 600-700mm (+/-30mm) regulējami roku balsti ar bīdāmām poliuretāna uzlikām. Sinhromehānisms, fiksējams 5 pozīcijās ar pretsitiena un svara kompensācijas sistēmu, nestspēja ne mazāk par 110kg. Pamatne: Melna poliamīda piecstaru D= 700mm (+/- 50mm) uz grīdu saudzējošiem riteņiem D=65mm (+/-20mm) | F3: Toņus Pasūtītājs izvēlās un nosaka pirms pasūtījuma veikšanas un Izpildītājs atkārtoti saskaņo PIRMS izgatavošanas | I3: =G3*H3 -> 0
A4: 2 | B4: DK2 | C4: Darba krēsls bez roku balstiem | E4: Ergonomisks darba krēsls uz riteņiem bez roku balstiem. Izmēri: 700x700mm (+/-30mm), H=470/1000-1120mm (+/-30mm). Atzveltne sietauduma, augstumā regulējams jostas vietas atbalsts no melna polipropilēna. Sēdeklis no izturīgas pamatnes ar ergonomiski izliektu poliuretāna spilvenu. Regulējams sēdekļa dziļums. Sēdvietas augstumu regulē ar gāzes atsperi. Sēdekļa tapsējums no augstas kvalitātes mēbeļu auduma - 100% poliesters, bez metāla piejaukumiem. Auduma nodilumizturība ≥100 000 Martindale ciklu, masa 250–350 g/m², uguns noturība atbilstoši EN 1021‑1 un EN 1021‑2 (vai ekvivalentam). Mehānisms: atzveltnes un sēdekļa sagāzums regulējas sinhroni (sinhro mehānisms), ar iespēju fiksēt 4 pozīcijās. Ar pretsitiena un svara kompensācijas sistēmu. Pamatne: Melna polipropilēna piecstaru D=700 (+/-50mm) ar gumijas ritenīšiem D=65mm (+/-20mm) . | F4: Toņus Pasūtītājs izvēlās un nosaka pirms pasūtījuma veikšanas un Izpildītājs atkārtoti saskaņo PIRMS izgatavošanas | I4: =G4*H4 -> 0
A5: 3 | B5: DK3 | C5: Darba krēsls ar galvas balstu | E5: Ergonomisks darba krēsls ar roku un galvas balstu. Izmēri: 700x700 mm (+/-30mm), H=1210-1340mm (+/-30mm). Atzveltne: Augstums 550mm (+/-30mm), platums jostas daļā 470mm (+/-30mm) - augšdaļā 430mm (+/-30mm) ar fiksētu augstumu un augstumā regulējamu jostas vietas balstu - armēta polipropilēna rāmī iestiepts siets. Sēdeklis: izmēri 480x450mm (+/- 50mm)polipropilēna Pamatne polsterēta ar ugunsdrošu poliuretānu (1 IM klase, Crib 5, blīvums 40 kg/m³) un tapsēta ar audumu, kas atbilst noteiktajām ugunsdrošības un nodilumizturības prasībām. Tapsējums no augstas kvalitātes mēbeļu auduma ar nodilumizturību vismaz 100 000 ciklu pēc Martindale skalas; tapsējuma auduma nodilumizturība un ugunsdrošība ir apliecināma ar akreditētas testēšanas laboratorijas izdotu sertifikātu. Augstuma regulācija ar gāzes atsperi 455-585mm (+/-30mm) amplitūdā, sēdekļa dziļuma regulācija 75mm robežās, augstumā 140-210mm (+/-30mm), platumā 600-700mm (+/-30mm) regulējami roku balsti ar bīdāmām poliuretāna uzlikām, galvas balsts ar regulējamu augstumu un leņķi. Sinhromehānisms, fiksējams 5 pozīcijās ar pretsitiena un svara kompensācijas sistēmu, nestspēja ne mazāk par 110kg. Pamatne: Melna poliamīda piecstaru D= 700mm (+/- 50mm) uz grīdu saudzējošiem riteņiem D=65mm (+/-20mm) | F5: Toņus Pasūtītājs izvēlās un nosaka pirms pasūtījuma veikšanas un Izpildītājs atkārtoti saskaņo PIRMS izgatavošanas | I5: =G5*H5 -> 0
